BEGIN:VCALENDAR
VERSION:2.0
PRODID:-//Plone.org//NONSGML plone.app.event//EN
X-WR-TIMEZONE:Brazil/East
BEGIN:VEVENT
SUMMARY:Sessão Descentralizada na 34ª Festa da Colônia e 13ª Feira Fei
 to em Gramado.
DTSTART;TZID=Brazil/East;VALUE=DATE-TIME:20250512T180000
DTEND;TZID=Brazil/East;VALUE=DATE-TIME:20250512T200000
DTSTAMP;VALUE=DATE-TIME:20260420T012522Z
UID:efda83d25c6f45b9916194e4ba17b908@www.gramado.rs.leg.br
CREATED;VALUE=DATE-TIME:20250415T104343Z
DESCRIPTION:Sessão Descentralizada na 34ª Festa da Colônia e 13ª Feira
  Feito em Gramado.
LAST-MODIFIED;VALUE=DATE-TIME:20250415T143240Z
LOCATION:Expogramado
URL:https://www.gramado.rs.leg.br/institucional/eventos/sessao-descentrali
 zada-na-34a-festa-da-colonia-e-13a-feira-feito-em-gramado
END:VEVENT
BEGIN:VTIMEZONE
TZID:Brazil/East
X-LIC-LOCATION:Brazil/East
BEGIN:STANDARD
DTSTART;VALUE=DATE-TIME:20250215T230000
TZNAME:BRT
TZOFFSETFROM:-0200
TZOFFSETTO:-0300
END:STANDARD
END:VTIMEZONE
END:VCALENDAR
