BEGIN:VCALENDAR
VERSION:2.0
PRODID:-//Plone.org//NONSGML plone.app.event//EN
X-WR-TIMEZONE:Brazil/East
BEGIN:VEVENT
SUMMARY:Exposição Juliana Faber
DTSTART;TZID=Brazil/East;VALUE=DATE-TIME:20250602T080000
DTEND;TZID=Brazil/East;VALUE=DATE-TIME:20250623T173000
DTSTAMP;VALUE=DATE-TIME:20260419T125630Z
UID:918d02c2107e43e0ab6940c49577b422@www.gramado.rs.leg.br
CREATED;VALUE=DATE-TIME:20250416T115738Z
DESCRIPTION:Exposição Juliana Faber
LAST-MODIFIED;VALUE=DATE-TIME:20250416T115804Z
URL:https://www.gramado.rs.leg.br/exposicao-juliana-faber
END:VEVENT
BEGIN:VTIMEZONE
TZID:Brazil/East
X-LIC-LOCATION:Brazil/East
BEGIN:STANDARD
DTSTART;VALUE=DATE-TIME:20250215T230000
TZNAME:BRT
TZOFFSETFROM:-0200
TZOFFSETTO:-0300
END:STANDARD
END:VTIMEZONE
END:VCALENDAR
